BEGIN:VCALENDAR
VERSION:2.0
PRODID:-//Connecticut Adult Children of Alcoholics &amp; Dysfunctional Families. - ECPv6.15.20//NONSGML v1.0//EN
CALSCALE:GREGORIAN
METHOD:PUBLISH
X-WR-CALNAME:Connecticut Adult Children of Alcoholics &amp; Dysfunctional Families.
X-ORIGINAL-URL:https://ct-aca.org
X-WR-CALDESC:Events for Connecticut Adult Children of Alcoholics &amp; Dysfunctional Families.
REFRESH-INTERVAL;VALUE=DURATION:PT1H
X-Robots-Tag:noindex
X-PUBLISHED-TTL:PT1H
BEGIN:VTIMEZONE
TZID:UTC
BEGIN:STANDARD
TZOFFSETFROM:+0000
TZOFFSETTO:+0000
TZNAME:UTC
DTSTART:20180101T000000
END:STANDARD
END:VTIMEZONE
BEGIN:VEVENT
DTSTART;TZID=UTC:20191127T160000
DTEND;TZID=UTC:20191127T170000
DTSTAMP:20260419T081525
CREATED:20191118T004855Z
LAST-MODIFIED:20191118T004855Z
UID:1112-1574870400-1574874000@ct-aca.org
SUMMARY:Special ACA Meeting at the 31st ANNUAL THANKSGIVING ALKATHON
DESCRIPTION:Please join and support ACA at this years 31st ANNUAL THANKSGIVING ALKATHON \n 
URL:https://ct-aca.org/event/special-aca-meeting-at-the-31st-annual-thanksgiving-alkathon/
LOCATION:St. Mary’s Church of the Visitation\, 54 Grove Street\, Clinton\, Connecticut\, 06413\, United States
END:VEVENT
END:VCALENDAR